BEGIN:VCALENDAR
VERSION:2.0
PRODID:-//Barambah Beekeepers - ECPv6.15.20//NONSGML v1.0//EN
CALSCALE:GREGORIAN
METHOD:PUBLISH
X-WR-CALNAME:Barambah Beekeepers
X-ORIGINAL-URL:https://barambahbeekeepers.org.au
X-WR-CALDESC:Events for Barambah Beekeepers
REFRESH-INTERVAL;VALUE=DURATION:PT1H
X-Robots-Tag:noindex
X-PUBLISHED-TTL:PT1H
BEGIN:VTIMEZONE
TZID:Australia/Brisbane
BEGIN:STANDARD
TZOFFSETFROM:+1000
TZOFFSETTO:+1000
TZNAME:AEST
DTSTART:20220101T000000
END:STANDARD
END:VTIMEZONE
BEGIN:VEVENT
DTSTART;TZID=Australia/Brisbane:20230902T080000
DTEND;TZID=Australia/Brisbane:20230902T120000
DTSTAMP:20260422T084451
CREATED:20230519T045744Z
LAST-MODIFIED:20230519T045744Z
UID:2516-1693641600-1693656000@barambahbeekeepers.org.au
SUMMARY:Honey Sales
DESCRIPTION:Buy local honey produced by our club members. \nAlso available Creamed Honey\, Creamed Ginger\, Creamed Cinnamon. \nHoneycomb\, Wax\, Lip Balm & Hair/Beard Balm \n13 Pound St Kingaroy \nSupport your local Beekeepers
URL:https://barambahbeekeepers.org.au/event/honey-sales-30/
LOCATION:Club House\, 13 Pound Street\, Kingaroy\, Qld\, 4610\, Australia
CATEGORIES:Honey Sales
END:VEVENT
BEGIN:VEVENT
DTSTART;TZID=Australia/Brisbane:20230909T080000
DTEND;TZID=Australia/Brisbane:20230909T120000
DTSTAMP:20260422T084451
CREATED:20230519T045808Z
LAST-MODIFIED:20230519T045808Z
UID:2518-1694246400-1694260800@barambahbeekeepers.org.au
SUMMARY:Honey Sales
DESCRIPTION:Buy local honey produced by our club members. \nAlso available Creamed Honey\, Creamed Ginger\, Creamed Cinnamon. \nHoneycomb\, Wax\, Lip Balm & Hair/Beard Balm \n13 Pound St Kingaroy \nSupport your local Beekeepers
URL:https://barambahbeekeepers.org.au/event/honey-sales-31/
LOCATION:Club House\, 13 Pound Street\, Kingaroy\, Qld\, 4610\, Australia
CATEGORIES:Honey Sales
END:VEVENT
BEGIN:VEVENT
DTSTART;TZID=Australia/Brisbane:20230909T100000
DTEND;TZID=Australia/Brisbane:20230909T120000
DTSTAMP:20260422T084451
CREATED:20230508T063337Z
LAST-MODIFIED:20230508T063435Z
UID:2435-1694253600-1694260800@barambahbeekeepers.org.au
SUMMARY:General Meeting
DESCRIPTION:Members can meet at the Club House at 8.30am to inspect the Club Hives at 8.45am to 9.45am\, then return to the Club House for the General Meeting. \nNew Members also welcome \nHoney Sales 8am – 12pm – Club House
URL:https://barambahbeekeepers.org.au/event/general-meeting-2/
LOCATION:Club House\, 13 Pound Street\, Kingaroy\, Qld\, 4610\, Australia
CATEGORIES:Meeting
END:VEVENT
BEGIN:VEVENT
DTSTART;TZID=Australia/Brisbane:20230916T080000
DTEND;TZID=Australia/Brisbane:20230916T120000
DTSTAMP:20260422T084451
CREATED:20230519T045835Z
LAST-MODIFIED:20230519T045835Z
UID:2520-1694851200-1694865600@barambahbeekeepers.org.au
SUMMARY:Honey Sales
DESCRIPTION:Buy local honey produced by our club members. \nAlso available Creamed Honey\, Creamed Ginger\, Creamed Cinnamon. \nHoneycomb\, Wax\, Lip Balm & Hair/Beard Balm \n13 Pound St Kingaroy \nSupport your local Beekeepers
URL:https://barambahbeekeepers.org.au/event/honey-sales-32/
LOCATION:Club House\, 13 Pound Street\, Kingaroy\, Qld\, 4610\, Australia
CATEGORIES:Honey Sales
END:VEVENT
BEGIN:VEVENT
DTSTART;TZID=Australia/Brisbane:20230923T080000
DTEND;TZID=Australia/Brisbane:20230923T120000
DTSTAMP:20260422T084451
CREATED:20230519T045900Z
LAST-MODIFIED:20230519T045900Z
UID:2522-1695456000-1695470400@barambahbeekeepers.org.au
SUMMARY:Honey Sales
DESCRIPTION:Buy local honey produced by our club members. \nAlso available Creamed Honey\, Creamed Ginger\, Creamed Cinnamon. \nHoneycomb\, Wax\, Lip Balm & Hair/Beard Balm \n13 Pound St Kingaroy \nSupport your local Beekeepers
URL:https://barambahbeekeepers.org.au/event/honey-sales-33/
LOCATION:Club House\, 13 Pound Street\, Kingaroy\, Qld\, 4610\, Australia
CATEGORIES:Honey Sales
END:VEVENT
BEGIN:VEVENT
DTSTART;TZID=Australia/Brisbane:20230930T080000
DTEND;TZID=Australia/Brisbane:20230930T120000
DTSTAMP:20260422T084451
CREATED:20230519T045921Z
LAST-MODIFIED:20230519T045921Z
UID:2524-1696060800-1696075200@barambahbeekeepers.org.au
SUMMARY:Honey Sales
DESCRIPTION:Buy local honey produced by our club members. \nAlso available Creamed Honey\, Creamed Ginger\, Creamed Cinnamon. \nHoneycomb\, Wax\, Lip Balm & Hair/Beard Balm \n13 Pound St Kingaroy \nSupport your local Beekeepers
URL:https://barambahbeekeepers.org.au/event/honey-sales-34/
LOCATION:Club House\, 13 Pound Street\, Kingaroy\, Qld\, 4610\, Australia
CATEGORIES:Honey Sales
END:VEVENT
BEGIN:VEVENT
DTSTART;TZID=Australia/Brisbane:20230930T080000
DTEND;TZID=Australia/Brisbane:20230930T140000
DTSTAMP:20260422T084451
CREATED:20230519T040051Z
LAST-MODIFIED:20230519T040051Z
UID:2498-1696060800-1696082400@barambahbeekeepers.org.au
SUMMARY:Bunnings Sausage Sizzle
DESCRIPTION:Bunnings Sausage Sizzle Fundraiser \nRaising money for the Club House for Bee supplies\, equipment & general up keeping for members.
URL:https://barambahbeekeepers.org.au/event/bunnings-sausage-sizzle-4/
LOCATION:Bunnings Kingaroy\, 2 Walter St\, Kingaroy\, Qld\, 4610
CATEGORIES:Bunnings Sausage Sizzle
END:VEVENT
END:VCALENDAR