BEGIN:VCALENDAR
VERSION:2.0
PRODID:-//Barambah Beekeepers - ECPv6.15.20//NONSGML v1.0//EN
CALSCALE:GREGORIAN
METHOD:PUBLISH
X-ORIGINAL-URL:https://barambahbeekeepers.org.au
X-WR-CALDESC:Events for Barambah Beekeepers
REFRESH-INTERVAL;VALUE=DURATION:PT1H
X-Robots-Tag:noindex
X-PUBLISHED-TTL:PT1H
BEGIN:VTIMEZONE
TZID:Australia/Brisbane
BEGIN:STANDARD
TZOFFSETFROM:+1000
TZOFFSETTO:+1000
TZNAME:AEST
DTSTART:20220101T000000
END:STANDARD
END:VTIMEZONE
BEGIN:VEVENT
DTSTART;TZID=Australia/Brisbane:20230701T080000
DTEND;TZID=Australia/Brisbane:20230701T120000
DTSTAMP:20260422T115501
CREATED:20230508T062521Z
LAST-MODIFIED:20230508T062521Z
UID:2423-1688198400-1688212800@barambahbeekeepers.org.au
SUMMARY:Honey Sales
DESCRIPTION:Buy local honey produced by our club members. \nAlso available Creamed Honey\, Creamed Ginger\, Creamed Cinnamon. \nHoneycomb\, Wax\, Lip Balm & Hair/Beard Balm \n13 Pound St Kingaroy \nSupport your local Beekeepers
URL:https://barambahbeekeepers.org.au/event/honey-sales-21/
LOCATION:Club House\, 13 Pound Street\, Kingaroy\, Qld\, 4610\, Australia
CATEGORIES:Honey Sales
END:VEVENT
BEGIN:VEVENT
DTSTART;TZID=Australia/Brisbane:20230708T080000
DTEND;TZID=Australia/Brisbane:20230708T120000
DTSTAMP:20260422T115501
CREATED:20230508T062556Z
LAST-MODIFIED:20230508T062556Z
UID:2425-1688803200-1688817600@barambahbeekeepers.org.au
SUMMARY:Honey Sales
DESCRIPTION:Buy local honey produced by our club members. \nAlso available Creamed Honey\, Creamed Ginger\, Creamed Cinnamon. \nHoneycomb\, Wax\, Lip Balm & Hair/Beard Balm \n13 Pound St Kingaroy \nSupport your local Beekeepers
URL:https://barambahbeekeepers.org.au/event/honey-sales-22/
LOCATION:Club House\, 13 Pound Street\, Kingaroy\, Qld\, 4610\, Australia
CATEGORIES:Honey Sales
END:VEVENT
BEGIN:VEVENT
DTSTART;TZID=Australia/Brisbane:20230708T080000
DTEND;TZID=Australia/Brisbane:20230708T140000
DTSTAMP:20260422T115501
CREATED:20230508T074736Z
LAST-MODIFIED:20230508T074850Z
UID:2455-1688803200-1688824800@barambahbeekeepers.org.au
SUMMARY:Bunnings Sausage Sizzle
DESCRIPTION:Bunnings Sausage Sizzle Fundraiser \nRaising money for the Club House for Bee supplies\, equipment & general up keeping for members.
URL:https://barambahbeekeepers.org.au/event/bunnings-sausage-sizzle-3/
LOCATION:Bunnings Kingaroy\, 2 Walter St\, Kingaroy\, Qld\, 4610
CATEGORIES:Bunnings Sausage Sizzle
END:VEVENT
BEGIN:VEVENT
DTSTART;TZID=Australia/Brisbane:20230708T100000
DTEND;TZID=Australia/Brisbane:20230708T120000
DTSTAMP:20260422T115501
CREATED:20230519T041300Z
LAST-MODIFIED:20230519T045332Z
UID:2504-1688810400-1688817600@barambahbeekeepers.org.au
SUMMARY:General Meeting
DESCRIPTION:Members can meet at the Club House at 8.30am to inspect the Club Hives at 8.45am to 9.45am\, then return to the Club House for the General Meeting. \nNew Members also welcome \nHoney Sales 8am – 12pm – Club House
URL:https://barambahbeekeepers.org.au/event/general-meeting-6/
LOCATION:Club House\, 13 Pound Street\, Kingaroy\, Qld\, 4610\, Australia
CATEGORIES:Meeting
END:VEVENT
BEGIN:VEVENT
DTSTART;TZID=Australia/Brisbane:20230715T080000
DTEND;TZID=Australia/Brisbane:20230715T120000
DTSTAMP:20260422T115501
CREATED:20230508T062637Z
LAST-MODIFIED:20230508T062637Z
UID:2427-1689408000-1689422400@barambahbeekeepers.org.au
SUMMARY:Honey Sales
DESCRIPTION:Buy local honey produced by our club members. \nAlso available Creamed Honey\, Creamed Ginger\, Creamed Cinnamon. \nHoneycomb\, Wax\, Lip Balm & Hair/Beard Balm \n13 Pound St Kingaroy \nSupport your local Beekeepers
URL:https://barambahbeekeepers.org.au/event/honey-sales-23/
LOCATION:Club House\, 13 Pound Street\, Kingaroy\, Qld\, 4610\, Australia
CATEGORIES:Honey Sales
END:VEVENT
BEGIN:VEVENT
DTSTART;TZID=Australia/Brisbane:20230722T080000
DTEND;TZID=Australia/Brisbane:20230722T120000
DTSTAMP:20260422T115501
CREATED:20230508T062722Z
LAST-MODIFIED:20230508T062722Z
UID:2429-1690012800-1690027200@barambahbeekeepers.org.au
SUMMARY:Honey Sales
DESCRIPTION:Buy local honey produced by our club members. \nAlso available Creamed Honey\, Creamed Ginger\, Creamed Cinnamon. \nHoneycomb\, Wax\, Lip Balm & Hair/Beard Balm \n13 Pound St Kingaroy \nSupport your local Beekeepers
URL:https://barambahbeekeepers.org.au/event/honey-sales-24/
LOCATION:Club House\, 13 Pound Street\, Kingaroy\, Qld\, 4610\, Australia
CATEGORIES:Honey Sales
END:VEVENT
BEGIN:VEVENT
DTSTART;TZID=Australia/Brisbane:20230729T080000
DTEND;TZID=Australia/Brisbane:20230729T120000
DTSTAMP:20260422T115501
CREATED:20230508T062800Z
LAST-MODIFIED:20230508T062800Z
UID:2431-1690617600-1690632000@barambahbeekeepers.org.au
SUMMARY:Honey Sales
DESCRIPTION:Buy local honey produced by our club members. \nAlso available Creamed Honey\, Creamed Ginger\, Creamed Cinnamon. \nHoneycomb\, Wax\, Lip Balm & Hair/Beard Balm \n13 Pound St Kingaroy \nSupport your local Beekeepers
URL:https://barambahbeekeepers.org.au/event/honey-sales-25/
LOCATION:Club House\, 13 Pound Street\, Kingaroy\, Qld\, 4610\, Australia
CATEGORIES:Honey Sales
END:VEVENT
END:VCALENDAR