BEGIN:VCALENDAR
VERSION:2.0
PRODID:-//Barambah Beekeepers - ECPv6.15.20//NONSGML v1.0//EN
CALSCALE:GREGORIAN
METHOD:PUBLISH
X-ORIGINAL-URL:https://barambahbeekeepers.org.au
X-WR-CALDESC:Events for Barambah Beekeepers
REFRESH-INTERVAL;VALUE=DURATION:PT1H
X-Robots-Tag:noindex
X-PUBLISHED-TTL:PT1H
BEGIN:VTIMEZONE
TZID:Australia/Brisbane
BEGIN:STANDARD
TZOFFSETFROM:+1000
TZOFFSETTO:+1000
TZNAME:AEST
DTSTART:20220101T000000
END:STANDARD
END:VTIMEZONE
BEGIN:VEVENT
DTSTART;TZID=Australia/Brisbane:20230930T080000
DTEND;TZID=Australia/Brisbane:20230930T120000
DTSTAMP:20260422T084119
CREATED:20230519T045921Z
LAST-MODIFIED:20230519T045921Z
UID:2524-1696060800-1696075200@barambahbeekeepers.org.au
SUMMARY:Honey Sales
DESCRIPTION:Buy local honey produced by our club members. \nAlso available Creamed Honey\, Creamed Ginger\, Creamed Cinnamon. \nHoneycomb\, Wax\, Lip Balm & Hair/Beard Balm \n13 Pound St Kingaroy \nSupport your local Beekeepers
URL:https://barambahbeekeepers.org.au/event/honey-sales-34/
LOCATION:Club House\, 13 Pound Street\, Kingaroy\, Qld\, 4610\, Australia
CATEGORIES:Honey Sales
END:VEVENT
BEGIN:VEVENT
DTSTART;TZID=Australia/Brisbane:20230930T080000
DTEND;TZID=Australia/Brisbane:20230930T140000
DTSTAMP:20260422T084119
CREATED:20230519T040051Z
LAST-MODIFIED:20230519T040051Z
UID:2498-1696060800-1696082400@barambahbeekeepers.org.au
SUMMARY:Bunnings Sausage Sizzle
DESCRIPTION:Bunnings Sausage Sizzle Fundraiser \nRaising money for the Club House for Bee supplies\, equipment & general up keeping for members.
URL:https://barambahbeekeepers.org.au/event/bunnings-sausage-sizzle-4/
LOCATION:Bunnings Kingaroy\, 2 Walter St\, Kingaroy\, Qld\, 4610
CATEGORIES:Bunnings Sausage Sizzle
END:VEVENT
END:VCALENDAR