BEGIN:VCALENDAR
VERSION:2.0
PRODID:-//Barambah Beekeepers - ECPv6.15.20//NONSGML v1.0//EN
CALSCALE:GREGORIAN
METHOD:PUBLISH
X-ORIGINAL-URL:https://barambahbeekeepers.org.au
X-WR-CALDESC:Events for Barambah Beekeepers
REFRESH-INTERVAL;VALUE=DURATION:PT1H
X-Robots-Tag:noindex
X-PUBLISHED-TTL:PT1H
BEGIN:VTIMEZONE
TZID:Australia/Brisbane
BEGIN:STANDARD
TZOFFSETFROM:+1000
TZOFFSETTO:+1000
TZNAME:AEST
DTSTART:20220101T000000
END:STANDARD
END:VTIMEZONE
BEGIN:VEVENT
DTSTART;TZID=Australia/Brisbane:20230520T080000
DTEND;TZID=Australia/Brisbane:20230520T120000
DTSTAMP:20260422T163501
CREATED:20230508T061918Z
LAST-MODIFIED:20230508T061918Z
UID:2411-1684569600-1684584000@barambahbeekeepers.org.au
SUMMARY:Honey Sales
DESCRIPTION:Buy local honey produced by our club members. \nAlso available Creamed Honey\, Creamed Ginger\, Creamed Cinnamon. \nHoneycomb\, Wax\, Lip Balm & Hair/Beard Balm \n13 Pound St Kingaroy \nSupport your local Beekeepers
URL:https://barambahbeekeepers.org.au/event/honey-sales-15/
LOCATION:Club House\, 13 Pound Street\, Kingaroy\, Qld\, 4610\, Australia
CATEGORIES:Honey Sales
END:VEVENT
END:VCALENDAR