BEGIN:VCALENDAR
VERSION:2.0
PRODID:-//Barambah Beekeepers - ECPv6.15.20//NONSGML v1.0//EN
CALSCALE:GREGORIAN
METHOD:PUBLISH
X-WR-CALNAME:Barambah Beekeepers
X-ORIGINAL-URL:https://barambahbeekeepers.org.au
X-WR-CALDESC:Events for Barambah Beekeepers
REFRESH-INTERVAL;VALUE=DURATION:PT1H
X-Robots-Tag:noindex
X-PUBLISHED-TTL:PT1H
BEGIN:VTIMEZONE
TZID:Australia/Brisbane
BEGIN:STANDARD
TZOFFSETFROM:+1000
TZOFFSETTO:+1000
TZNAME:AEST
DTSTART:20220101T000000
END:STANDARD
END:VTIMEZONE
BEGIN:VEVENT
DTSTART;TZID=Australia/Brisbane:20230513T080000
DTEND;TZID=Australia/Brisbane:20230513T140000
DTSTAMP:20260422T163503
CREATED:20230508T064753Z
LAST-MODIFIED:20230508T074953Z
UID:2443-1683964800-1683986400@barambahbeekeepers.org.au
SUMMARY:Bunnings Sausage Sizzle
DESCRIPTION:Bunnings Sausage Sizzle Fundraiser \nRaising money for the Club House for Bee supplies\, equipment & general up keeping for members.
URL:https://barambahbeekeepers.org.au/event/bunnings-sausage-sizzle/
LOCATION:Bunnings Kingaroy\, 2 Walter St\, Kingaroy\, Qld\, 4610
CATEGORIES:Bunnings Sausage Sizzle
END:VEVENT
BEGIN:VEVENT
DTSTART;TZID=Australia/Brisbane:20230513T100000
DTEND;TZID=Australia/Brisbane:20230513T120000
DTSTAMP:20260422T163503
CREATED:20230508T054618Z
LAST-MODIFIED:20230508T054653Z
UID:2407-1683972000-1683979200@barambahbeekeepers.org.au
SUMMARY:May 2023 General Meeting & Honey Sales
DESCRIPTION:Members can  meet at the Club House at 8.30am to inspect the Club Hives at 8.45am to 9.45am\, then return to the Club House for the General Meeting. \nHoney Sales 8am – 12pm – Club House \n13 Pound St Kingaroy.
URL:https://barambahbeekeepers.org.au/event/may-2023-general-meeting-honey-sales/
LOCATION:Club House\, 13 Pound Street\, Kingaroy\, Qld\, 4610\, Australia
CATEGORIES:Honey Sales,Meeting
END:VEVENT
END:VCALENDAR