BEGIN:VCALENDAR
VERSION:2.0
PRODID:-//Barambah Beekeepers - ECPv6.15.20//NONSGML v1.0//EN
CALSCALE:GREGORIAN
METHOD:PUBLISH
X-ORIGINAL-URL:https://barambahbeekeepers.org.au
X-WR-CALDESC:Events for Barambah Beekeepers
REFRESH-INTERVAL;VALUE=DURATION:PT1H
X-Robots-Tag:noindex
X-PUBLISHED-TTL:PT1H
BEGIN:VTIMEZONE
TZID:Australia/Brisbane
BEGIN:STANDARD
TZOFFSETFROM:+1000
TZOFFSETTO:+1000
TZNAME:AEST
DTSTART:20210101T000000
END:STANDARD
END:VTIMEZONE
BEGIN:VEVENT
DTSTART;TZID=Australia/Brisbane:20220108T080000
DTEND;TZID=Australia/Brisbane:20220108T120000
DTSTAMP:20260425T021437
CREATED:20211206T042226Z
LAST-MODIFIED:20211206T042226Z
UID:2090-1641628800-1641643200@barambahbeekeepers.org.au
SUMMARY:Honey Sales
DESCRIPTION:Buy local honey produced by our club members.
URL:https://barambahbeekeepers.org.au/event/honey-sales-14/
LOCATION:Club House\, 13 Pound Street\, Kingaroy\, Qld\, 4610\, Australia
CATEGORIES:Honey Sales
END:VEVENT
BEGIN:VEVENT
DTSTART;TZID=Australia/Brisbane:20220108T090000
DTEND;TZID=Australia/Brisbane:20220108T103000
DTSTAMP:20260425T021437
CREATED:20211206T041756Z
LAST-MODIFIED:20211206T041756Z
UID:2088-1641632400-1641637800@barambahbeekeepers.org.au
SUMMARY:January General Meeting
DESCRIPTION:BBQ following meeting
URL:https://barambahbeekeepers.org.au/event/january-general-meeting/
LOCATION:Club House\, 13 Pound Street\, Kingaroy\, Qld\, 4610\, Australia
CATEGORIES:Meeting
END:VEVENT
END:VCALENDAR